BEGIN:VCALENDAR
VERSION:2.0
PRODID:-//ChamberMaster//Event Calendar 2.0//EN
METHOD:PUBLISH
X-PUBLISHED-TTL:P3D
REFRESH-INTERVAL:P3D
CALSCALE:GREGORIAN
BEGIN:VEVENT
DTSTART;VALUE=DATE:20170331
DTEND;VALUE=DATE:20170401
TRANSP:TRANSPARENT
X-MICROSOFT-CDO-ALLDAYEVENT:TRUE
SUMMARY:Sporting Clay Classic
DESCRIPTION:Sporting Clay Classic\, Friday\, March 31\, 2017 at Lehigh Valley Sporting Clays\, Coplay\, PA\n\nFor more information visit - http://www.wildlifeforeveryone.org/events/2017lehighclaybrochure.pdf\n\nContact WFEEF at info@wildlifeforeveryone.org or call 814.238.8138.
X-ALT-DESC;FMTTYPE=text/html:Sporting Clay Classic\, Friday\, March 31\, 2017 at Lehigh Valley Sporting Clays\, Coplay\, PA<br />\nFor more information visit -&nbsp\;http://www.wildlifeforeveryone.org/events/2017lehighclaybrochure.pdf<br />\nContact WFEEF at info@wildlifeforeveryone.org or call 814.238.8138.<br />\n<br />\n&nbsp\;
LOCATION:Lehigh Valley Sporting Clays 2750 Limestone Street Coplay\, PA 18037
UID:e.1328.5253
SEQUENCE:3
DTSTAMP:20260419T223842Z
URL:http://johnstownchamber.chambermaster.com/events/details/sporting-clay-classic-5253
END:VEVENT

END:VCALENDAR
